BEGIN:VCALENDAR
VERSION:2.0
PRODID:-//ChamberMaster//Event Calendar 2.0//EN
METHOD:PUBLISH
X-PUBLISHED-TTL:P3D
REFRESH-INTERVAL:P3D
CALSCALE:GREGORIAN
BEGIN:VEVENT
DTSTART:20241128T230000Z
DTEND:20241129T010000Z
X-MICROSOFT-CDO-ALLDAYEVENT:FALSE
SUMMARY:County Tree Lighting
DESCRIPTION:County Tree Lighting
X-ALT-DESC;FMTTYPE=text/html:County Tree Lighting
LOCATION:County Admin 110 Railroad Ave.
UID:e.1277.8601
SEQUENCE:3
DTSTAMP:20260426T024436Z
URL:http://cherokeechamber.chambermaster.com/events/details/county-tree-lighting-8601
END:VEVENT

END:VCALENDAR
